BEGIN:VCALENDAR
VERSION:2.0
PRODID:-//ChamberMaster//Event Calendar 2.0//EN
METHOD:PUBLISH
X-PUBLISHED-TTL:P1H
REFRESH-INTERVAL:P1H
CALSCALE:GREGORIAN
BEGIN:VTIMEZONE
TZID:America/New_York
BEGIN:DAYLIGHT
RRULE:FREQ=YEARLY;BYMONTH=3;BYDAY=2SU
DTSTART:20070101T000000
TZOFFSETFROM:-0500
TZOFFSETTO:-0400
TZNAME:Eastern Daylight Time
END:DAYLIGHT
BEGIN:STANDARD
RRULE:FREQ=YEARLY;BYMONTH=11;BYDAY=1SU
DTSTART:20070101T000000
TZOFFSETFROM:-0400
TZOFFSETTO:-0500
TZNAME:Eastern Standard Time
END:STANDARD
END:VTIMEZONE
BEGIN:VEVENT
DTSTART;TZID=America/New_York:20260512T160000
DTEND;TZID=America/New_York:20260512T180000
X-MICROSOFT-CDO-ALLDAYEVENT:FALSE
SUMMARY:Sullivan Business Exchange\, featuring the Annual Brochure Swap
DESCRIPTION:Sullivan Business Exchange: Featuring the Annual Brochure SwapGet ready to kick off tourism season and shine a spotlight on everything that makes Sullivan County's small business community thrive.The Sullivan County Chamber of Commerce\, in partnership with Sullivan Catskills\, invites you to join a lively\, high-energy event built to connect\, promote\, and inspire. The Sullivan Business Exchange is your chance to put your business front and center just as visitors begin exploring our region.Set in a fun exhibition and tailgate-style atmosphere\, this event brings together local entrepreneurs\, organizations\, and community leaders for an evening of visibility and opportunity. Share your brochures\, showcase your services\, spark new partnerships\, and see firsthand what fellow businesses are offering this season.If you are looking to boost awareness\, generate leads\, and stay active in the local business scene\, this is where you want to be.As an added bonus\, all participating vendors will receive a complimentary meal voucher to enjoy at Liberty Mall eateries during the event.Vendor InformationIndoor Exhibition Spaces (Liberty Mall):\n  One 6-foot wide space\n  Vendors must provide their own setup\n  Limit of one (1) table per vendor (maximum table length: 6 feet) and up to two chairsOutdoor Tailgate Spaces (Parking Lot):\n  Limited availability\, first-come\, first-served\n  One parking space per vendorRegistration Fees\nChamber Members: $10\nNon-Members: $20Event Details\nDate: Tuesday\, May 12\nTime: 4:00 PM   6:00 PM\nLocation: Liberty Mall Parking Lot\, 15 Sullivan Ave\, Liberty\, NY 12754Spots are limited and expected to fill quickly. Secure your space today\, connect with fellow businesses\, and position yourself for a strong and successful tourism season.
X-ALT-DESC;FMTTYPE=text/html:<!DOCTYPE html><html><head><title></title></head><body aria-disabled="false"><p data-end="66" data-start="0"><strong data-end="66" data-start="0" fr-original-style="" style="font-weight: 700\;"><span style="font-size: 24px\;">Sullivan Business Exchange: Featuring the Annual Brochure Swap</span></strong></p><p data-end="202" data-start="68">Get ready to kick off tourism season and shine a spotlight on everything that makes Sullivan County&rsquo\;s small business community thrive.</p><p data-end="520" data-start="204">The <strong fr-original-style="" style="font-weight: 700\;">Sullivan County Chamber of Commerce</strong>\, in partnership with <strong fr-original-style="" style="font-weight: 700\;">Sullivan Catskills</strong>\, invites you to join a lively\, high-energy event built to connect\, promote\, and inspire. The <strong fr-original-style="" style="font-weight: 700\;">Sullivan Business Exchange</strong> is your chance to put your business front and center just as visitors begin exploring our region.</p><p data-end="844" data-start="522">Set in a fun exhibition and tailgate-style atmosphere\, this event brings together local entrepreneurs\, organizations\, and community leaders for an evening of visibility and opportunity. Share your brochures\, showcase your services\, spark new partnerships\, and see firsthand what fellow businesses are offering this season.</p><p data-end="975" data-start="846">If you are looking to boost awareness\, generate leads\, and stay active in the local business scene\, this is where you want to be.</p><p data-end="1115" data-start="977">As an added bonus\, all participating vendors will receive a complimentary meal voucher to enjoy at Liberty Mall eateries during the event.</p><p data-end="1139" data-start="1117"><strong data-end="1139" data-start="1117" fr-original-style="" style="font-weight: 700\;">Vendor Information</strong></p><p data-end="1276" data-start="1071"><strong data-end="1115" data-start="1071" fr-original-style="" style="font-weight: 700\;">Indoor Exhibition Spaces (Liberty Mall):</strong><br data-start="1115" data-end="1118">&bull\; One 6-foot wide space<br data-start="1141" data-end="1144">&bull\; Vendors must provide their own setup<br data-start="1182" data-end="1185">&bull\; Limit of one (1) table per vendor (maximum table length: 6 feet) and up to two chairs</p><p data-end="1446" data-start="1278"><strong data-end="1320" data-start="1278" fr-original-style="" style="font-weight: 700\;">Outdoor Tailgate Spaces (Parking Lot):</strong><br data-start="1320" data-end="1323">&bull\; Limited availability\, first-come\, first-served<br data-start="1371" data-end="1374">&bull\; One parking space per vendor</p><p data-end="1486" data-start="1421"><strong data-end="1442" data-start="1421" fr-original-style="" style="font-weight: 700\;">Registration Fees</strong><br data-start="1442" data-end="1445">Chamber Members: $10<br data-start="1465" data-end="1468">Non-Members: $20</p><p data-end="1630" data-start="1488"><strong data-end="1505" data-start="1488" fr-original-style="" style="font-weight: 700\;">Event Details</strong><br data-start="1505" data-end="1508">Date: Tuesday\, May 12<br data-start="1529" data-end="1532">Time: 4:00 PM &ndash\; 6:00 PM<br data-start="1555" data-end="1558">Location: Liberty Mall Parking Lot\, 15 Sullivan Ave\, Liberty\, NY 12754</p><p data-end="1802" data-is-last-node="" data-is-only-node="" data-start="1632">Spots are limited and expected to fill quickly. Secure your space today\, connect with fellow businesses\, and position yourself for a strong and successful tourism season.</p></body></html>
LOCATION:15 Sullivan Ave. liberty NY 12754
UID:e.4487.1447383
SEQUENCE:3
DTSTAMP:20260421T052502Z
URL:https://business.catskills.com/events/Details/sullivan-business-exchange-featuring-the-annual-brochure-swap-1714320?sourceTypeId=Hub
END:VEVENT
END:VCALENDAR
