BEGIN:VCALENDAR
VERSION:2.0
PRODID:-//ChamberMaster//Event Calendar 2.0//EN
METHOD:PUBLISH
X-PUBLISHED-TTL:P1H
REFRESH-INTERVAL:P1H
CALSCALE:GREGORIAN
BEGIN:VTIMEZONE
TZID:America/New_York
BEGIN:DAYLIGHT
RRULE:FREQ=YEARLY;BYMONTH=3;BYDAY=2SU
DTSTART:20070101T000000
TZOFFSETFROM:-0500
TZOFFSETTO:-0400
TZNAME:Eastern Daylight Time
END:DAYLIGHT
BEGIN:STANDARD
RRULE:FREQ=YEARLY;BYMONTH=11;BYDAY=1SU
DTSTART:20070101T000000
TZOFFSETFROM:-0400
TZOFFSETTO:-0500
TZNAME:Eastern Standard Time
END:STANDARD
END:VTIMEZONE
BEGIN:VEVENT
DTSTART;TZID=America/New_York:20260507T180000
DTEND;TZID=America/New_York:20260507T200000
X-MICROSOFT-CDO-ALLDAYEVENT:FALSE
SUMMARY:Women's Social Dance w/ Chris Spinner
DESCRIPTION:Ladies…come on out for a dance event. We’ll enjoy a dance party for LADIES ONLY!  Girls Just Wanna Have Fun! Come in your comfy clothes and we’ll Chat-Laugh-Dance and simply have a few hours together away from all of life’s pressures! Hosted by Cris Spinner\, Live From The Wish House Podcast AND The Hurleyville Performing Arts Center! \n\nBring your friends! AND….make new friends!!!\n\nSee You There!!
X-ALT-DESC;FMTTYPE=text/html:Ladies…come on out for a dance event. We’ll enjoy a dance party for LADIES ONLY!  Girls Just Wanna Have Fun! Come in your comfy clothes and we’ll Chat-Laugh-Dance and simply have a few hours together away from all of life’s pressures! Hosted by Cris Spinner\, Live From The Wish House Podcast AND The Hurleyville Performing Arts Center! \n\nBring your friends! AND….make new friends!!!\n\nSee You There!!
LOCATION:219 Main Street Hurleyville NY 12747
UID:e.4487.1443371
SEQUENCE:3
DTSTAMP:20260422T212302Z
URL:https://business.catskills.com/events/Details/women-s-social-dance-w-chris-spinner-1709614?sourceTypeId=Hub
END:VEVENT
END:VCALENDAR
