BEGIN:VCALENDAR
VERSION:2.0
PRODID:-//ChamberMaster//Event Calendar 2.0//EN
METHOD:PUBLISH
X-PUBLISHED-TTL:P1H
REFRESH-INTERVAL:P1H
CALSCALE:GREGORIAN
BEGIN:VTIMEZONE
TZID:America/New_York
BEGIN:DAYLIGHT
RRULE:FREQ=YEARLY;BYMONTH=3;BYDAY=2SU
DTSTART:20070101T000000
TZOFFSETFROM:-0500
TZOFFSETTO:-0400
TZNAME:Eastern Daylight Time
END:DAYLIGHT
BEGIN:STANDARD
RRULE:FREQ=YEARLY;BYMONTH=11;BYDAY=1SU
DTSTART:20070101T000000
TZOFFSETFROM:-0400
TZOFFSETTO:-0500
TZNAME:Eastern Standard Time
END:STANDARD
END:VTIMEZONE
BEGIN:VEVENT
DTSTART;TZID=America/New_York:20260422T150000
DTEND;TZID=America/New_York:20260422T170000
X-MICROSOFT-CDO-ALLDAYEVENT:FALSE
SUMMARY:Steps Forward: A Dance Wellness Program
DESCRIPTION:Steps Forward is HPAC’s new dance-based wellness program for adults and young adults healing from substance use\, mental health challenges\, and trauma.\n\n\n\nA creative\, supportive space to move\, express\, and reconnect.\n\nWeekly Sessions - 60 minutes of group connection and guided reflection + 60 minutes of expressive movement.\nLed with Expertise & Lived Experience - Facilitated by a dancer with lived experience who ensures an empathetic\, empowering environment.\nOpen to All - No dance experience required. All bodies and backgrounds welcome.\nCreative Expression - Journaling\, reflection\, and occasional “Share Nights” that celebrate growth and community.\nIf you can't join us in person\, join us on Zoom! \n\nPlease click link below to join: \nhttps://us06web.zoom.us/j/85925058217\n\n\n**This Program is Partially Funded by the Fedun Family and The Ellenville Reginal Hospital**
X-ALT-DESC;FMTTYPE=text/html:Steps Forward is HPAC’s new dance-based wellness program for adults and young adults healing from substance use\, mental health challenges\, and trauma.\n\n\n\nA creative\, supportive space to move\, express\, and reconnect.\n\nWeekly Sessions - 60 minutes of group connection and guided reflection + 60 minutes of expressive movement.\nLed with Expertise & Lived Experience - Facilitated by a dancer with lived experience who ensures an empathetic\, empowering environment.\nOpen to All - No dance experience required. All bodies and backgrounds welcome.\nCreative Expression - Journaling\, reflection\, and occasional “Share Nights” that celebrate growth and community.\nIf you can't join us in person\, join us on Zoom! \n\nPlease click link below to join: \nhttps://us06web.zoom.us/j/85925058217\n\n\n**This Program is Partially Funded by the Fedun Family and The Ellenville Reginal Hospital**
LOCATION:219 Main Street Hurleyville NY 12747
UID:e.4487.1440908
SEQUENCE:3
DTSTAMP:20260422T210911Z
URL:https://business.catskills.com/events/Details/steps-forward-a-dance-wellness-program-1706113?sourceTypeId=Hub
END:VEVENT
END:VCALENDAR
