BEGIN:VCALENDAR
VERSION:2.0
PRODID:-//ChamberMaster//Event Calendar 2.0//EN
METHOD:PUBLISH
X-PUBLISHED-TTL:P1H
REFRESH-INTERVAL:P1H
CALSCALE:GREGORIAN
BEGIN:VTIMEZONE
TZID:America/New_York
BEGIN:DAYLIGHT
RRULE:FREQ=YEARLY;BYMONTH=3;BYDAY=2SU
DTSTART:20070101T000000
TZOFFSETFROM:-0500
TZOFFSETTO:-0400
TZNAME:Eastern Daylight Time
END:DAYLIGHT
BEGIN:STANDARD
RRULE:FREQ=YEARLY;BYMONTH=11;BYDAY=1SU
DTSTART:20070101T000000
TZOFFSETFROM:-0400
TZOFFSETTO:-0500
TZNAME:Eastern Standard Time
END:STANDARD
END:VTIMEZONE
BEGIN:VEVENT
DTSTART;TZID=America/New_York:20260418T013000
DTEND;TZID=America/New_York:20260418T153000
X-MICROSOFT-CDO-ALLDAYEVENT:FALSE
SUMMARY:Ribbons of Hope
DESCRIPTION:Come create Ribbons of Hope. Arts and crafts materials will be provided\, along with light refreshments. Contact hope@drhopeshub.org to register
X-ALT-DESC;FMTTYPE=text/html:<!DOCTYPE html><html><head><title></title></head><body aria-disabled="false"><p>Come create Ribbons of Hope. Arts and crafts materials will be provided\, along with light refreshments. Contact hope@drhopeshub.org to register</p></body></html>
LOCATION:6692 NY 52 Lake Huntington NY
UID:e.4487.1437562
SEQUENCE:3
DTSTAMP:20260422T211810Z
URL:https://business.catskills.com/events/Details/ribbons-of-hope-1701506?sourceTypeId=Hub
END:VEVENT
END:VCALENDAR
