BEGIN:VCALENDAR
VERSION:2.0
PRODID:-//ChamberMaster//Event Calendar 2.0//EN
METHOD:PUBLISH
X-PUBLISHED-TTL:P1H
REFRESH-INTERVAL:P1H
CALSCALE:GREGORIAN
BEGIN:VTIMEZONE
TZID:America/New_York
BEGIN:DAYLIGHT
RRULE:FREQ=YEARLY;BYMONTH=3;BYDAY=2SU
DTSTART:20070101T000000
TZOFFSETFROM:-0500
TZOFFSETTO:-0400
TZNAME:Eastern Daylight Time
END:DAYLIGHT
BEGIN:STANDARD
RRULE:FREQ=YEARLY;BYMONTH=11;BYDAY=1SU
DTSTART:20070101T000000
TZOFFSETFROM:-0400
TZOFFSETTO:-0500
TZNAME:Eastern Standard Time
END:STANDARD
END:VTIMEZONE
BEGIN:VEVENT
DTSTART;TZID=America/New_York:20260501T100000
DTEND;TZID=America/New_York:20260501T110000
X-MICROSOFT-CDO-ALLDAYEVENT:FALSE
SUMMARY:Ribbon Cutting & Grand Opening Liberty Blooms West
DESCRIPTION:Grand Opening & Ribbon Cutting for Liberty Blooms West   Jeffersonville\, NYFriday\, May 1\, 2026 | 10:00 AMPlease join Liberty Blooms\, Sullivan County Chamber of Commerce and Jeffersonville Area Chamber of Commerce in celebrating the grand opening and ribbon cutting of one of Jeffersonville's newest businesses\, Liberty Blooms West\, located at 4886 State Route 52\, Jeffersonville\, NY 12748\, on Friday\, May 1st at 10:00 AM.Now that spring has arrived\, co-owners\, Jean Dermer and Tami VanLeuven\, are so excited to officially introduce Liberty Blooms West\, their second location an annex of Sullivan County's beloved Liberty Blooms Florist & Gift Shop in Liberty.Liberty Blooms West brings the brand you know and trust to the western side of the Sullivan County Catskills. The shop features a Bloom Bar where you can build your own bouquet\, a grab-and-go cooler stocked with unique arrangements\, and a curated selection of gifts including chocolates\, candles\, plush animals\, and more. Stop in\, say hello you never know what you'll find at Liberty Blooms West!Hours of operation: Monday & Thursday: 10 4\, Friday: 10 5 and Saturday: 10 3. For more information\, call 845-482-2023.The ribbon cutting will be followed by light refreshments and a meet-and-greet. All are welcome come by and give Liberty Blooms West a warm welcome!About Liberty BloomsLiberty Blooms is a full-service florist specializing in exclusive\, one-of-a-kind arrangements\, bouquets\, and gifts. Conveniently located in Liberty\, NY the heart of the Sullivan County Catskills and now in Jeffersonville\, both locations are committed to exceptional customer service\, the freshest flowers\, and creative floral design.From elegant arrangements and custom bouquets to gift baskets and thoughtfully paired florals with handpicked gifts and chocolates\, Liberty Blooms offers the most extensive delivery areas throughout Sullivan County. Every customer experience matters\, and the team is dedicated to going the extra mile to make every occasion special.Visit online at libertybloomsflorist.com or find Liberty Blooms on Facebook\, Instagram\, and Pinterest.For inquiries\, email LibertyBloomsFlorist@gmail.com or call 845-747-9404.
X-ALT-DESC;FMTTYPE=text/html:<!DOCTYPE html><html><head><title></title></head><body aria-disabled="false"><p style='color: rgb(0\, 0\, 0)\; font-family: "Times New Roman"\; font-size: medium\; font-style: normal\; font-variant-ligatures: normal\; font-variant-caps: normal\; font-weight: 400\; letter-spacing: normal\; orphans: 2\; text-align: start\; text-indent: 0px\; text-transform: none\; widows: 2\; word-spacing: 0px\; -webkit-text-stroke-width: 0px\; white-space: normal\; text-decoration-thickness: initial\; text-decoration-style: initial\; text-decoration-color: initial\;'><strong fr-original-style="" style="font-weight: 700\;">Grand Opening &amp\; Ribbon Cutting for Liberty Blooms West &ndash\; Jeffersonville\, NY</strong></p><p style='color: rgb(0\, 0\, 0)\; font-family: "Times New Roman"\; font-size: medium\; font-style: normal\; font-variant-ligatures: normal\; font-variant-caps: normal\; font-weight: 400\; letter-spacing: normal\; orphans: 2\; text-align: start\; text-indent: 0px\; text-transform: none\; widows: 2\; word-spacing: 0px\; -webkit-text-stroke-width: 0px\; white-space: normal\; text-decoration-thickness: initial\; text-decoration-style: initial\; text-decoration-color: initial\;'><strong fr-original-style="" style="font-weight: 700\;">Friday\, May 1\, 2026 | 10:00 AM</strong></p><p style='color: rgb(0\, 0\, 0)\; font-family: "Times New Roman"\; font-size: medium\; font-style: normal\; font-variant-ligatures: normal\; font-variant-caps: normal\; font-weight: 400\; letter-spacing: normal\; orphans: 2\; text-align: start\; text-indent: 0px\; text-transform: none\; widows: 2\; word-spacing: 0px\; -webkit-text-stroke-width: 0px\; white-space: normal\; text-decoration-thickness: initial\; text-decoration-style: initial\; text-decoration-color: initial\;'>Please join <strong fr-original-style="" style="font-weight: 700\;">Liberty Blooms</strong>\, <strong fr-original-style="" style="font-weight: 700\;">Sullivan County Chamber of Commerce</strong> and <strong fr-original-style="" style="font-weight: 700\;">Jeffersonville Area Chamber of Commerce</strong> in celebrating the grand opening and ribbon cutting of one of Jeffersonville&rsquo\;s newest businesses\, <strong fr-original-style="" style="font-weight: 700\;">Liberty Blooms West</strong>\, located at <strong fr-original-style="" style="font-weight: 700\;">4886 State Route 52\, Jeffersonville\, NY 12748</strong>\, on Friday\, <strong fr-original-style="" style="font-weight: 700\;">May 1</strong>st at <strong fr-original-style="" style="font-weight: 700\;">10:00 AM.</strong></p><p style='color: rgb(0\, 0\, 0)\; font-family: "Times New Roman"\; font-size: medium\; font-style: normal\; font-variant-ligatures: normal\; font-variant-caps: normal\; font-weight: 400\; letter-spacing: normal\; orphans: 2\; text-align: start\; text-indent: 0px\; text-transform: none\; widows: 2\; word-spacing: 0px\; -webkit-text-stroke-width: 0px\; white-space: normal\; text-decoration-thickness: initial\; text-decoration-style: initial\; text-decoration-color: initial\;'>Now that spring has arrived\, co-owners\, Jean Dermer and Tami VanLeuven\, are so excited to officially introduce Liberty Blooms West\, their second location&mdash\;an annex of Sullivan County&rsquo\;s beloved Liberty Blooms Florist &amp\; Gift Shop in Liberty.</p><p style='color: rgb(0\, 0\, 0)\; font-family: "Times New Roman"\; font-size: medium\; font-style: normal\; font-variant-ligatures: normal\; font-variant-caps: normal\; font-weight: 400\; letter-spacing: normal\; orphans: 2\; text-align: start\; text-indent: 0px\; text-transform: none\; widows: 2\; word-spacing: 0px\; -webkit-text-stroke-width: 0px\; white-space: normal\; text-decoration-thickness: initial\; text-decoration-style: initial\; text-decoration-color: initial\;'>Liberty Blooms West brings the brand you know and trust to the western side of the Sullivan County Catskills. The shop features a Bloom Bar where you can build your own bouquet\, a grab-and-go cooler stocked with unique arrangements\, and a curated selection of gifts including chocolates\, candles\, plush animals\, and more. Stop in\, say hello&mdash\;you never know what you&rsquo\;ll find at Liberty Blooms West!</p><p style='color: rgb(0\, 0\, 0)\; font-family: "Times New Roman"\; font-size: medium\; font-style: normal\; font-variant-ligatures: normal\; font-variant-caps: normal\; font-weight: 400\; letter-spacing: normal\; orphans: 2\; text-align: start\; text-indent: 0px\; text-transform: none\; widows: 2\; word-spacing: 0px\; -webkit-text-stroke-width: 0px\; white-space: normal\; text-decoration-thickness: initial\; text-decoration-style: initial\; text-decoration-color: initial\;'>Hours of operation: Monday &amp\; Thursday: 10&ndash\;4\, Friday: 10&ndash\;5 and Saturday: 10&ndash\;3. For more information\, call 845-482-2023.</p><p style='color: rgb(0\, 0\, 0)\; font-family: "Times New Roman"\; font-size: medium\; font-style: normal\; font-variant-ligatures: normal\; font-variant-caps: normal\; font-weight: 400\; letter-spacing: normal\; orphans: 2\; text-align: start\; text-indent: 0px\; text-transform: none\; widows: 2\; word-spacing: 0px\; -webkit-text-stroke-width: 0px\; white-space: normal\; text-decoration-thickness: initial\; text-decoration-style: initial\; text-decoration-color: initial\;'>The ribbon cutting will be followed by light refreshments and a meet-and-greet. All are welcome&mdash\;come by and give Liberty Blooms West a warm welcome!</p><p style='color: rgb(0\, 0\, 0)\; font-family: "Times New Roman"\; font-size: medium\; font-style: normal\; font-variant-ligatures: normal\; font-variant-caps: normal\; font-weight: 400\; letter-spacing: normal\; orphans: 2\; text-align: start\; text-indent: 0px\; text-transform: none\; widows: 2\; word-spacing: 0px\; -webkit-text-stroke-width: 0px\; white-space: normal\; text-decoration-thickness: initial\; text-decoration-style: initial\; text-decoration-color: initial\;'>About Liberty Blooms</p><p style='color: rgb(0\, 0\, 0)\; font-family: "Times New Roman"\; font-size: medium\; font-style: normal\; font-variant-ligatures: normal\; font-variant-caps: normal\; font-weight: 400\; letter-spacing: normal\; orphans: 2\; text-align: start\; text-indent: 0px\; text-transform: none\; widows: 2\; word-spacing: 0px\; -webkit-text-stroke-width: 0px\; white-space: normal\; text-decoration-thickness: initial\; text-decoration-style: initial\; text-decoration-color: initial\;'>Liberty Blooms is a full-service florist specializing in exclusive\, one-of-a-kind arrangements\, bouquets\, and gifts. Conveniently located in Liberty\, NY&mdash\;the heart of the Sullivan County Catskills&mdash\;and now in Jeffersonville\, both locations are committed to exceptional customer service\, the freshest flowers\, and creative floral design.</p><p style='color: rgb(0\, 0\, 0)\; font-family: "Times New Roman"\; font-size: medium\; font-style: normal\; font-variant-ligatures: normal\; font-variant-caps: normal\; font-weight: 400\; letter-spacing: normal\; orphans: 2\; text-align: start\; text-indent: 0px\; text-transform: none\; widows: 2\; word-spacing: 0px\; -webkit-text-stroke-width: 0px\; white-space: normal\; text-decoration-thickness: initial\; text-decoration-style: initial\; text-decoration-color: initial\;'>From elegant arrangements and custom bouquets to gift baskets and thoughtfully paired florals with handpicked gifts and chocolates\, Liberty Blooms offers the most extensive delivery areas throughout Sullivan County. Every customer experience matters\, and the team is dedicated to going the extra mile to make every occasion special.</p><p style='color: rgb(0\, 0\, 0)\; font-family: "Times New Roman"\; font-size: medium\; font-style: normal\; font-variant-ligatures: normal\; font-variant-caps: normal\; font-weight: 400\; letter-spacing: normal\; orphans: 2\; text-align: start\; text-indent: 0px\; text-transform: none\; widows: 2\; word-spacing: 0px\; -webkit-text-stroke-width: 0px\; white-space: normal\; text-decoration-thickness: initial\; text-decoration-style: initial\; text-decoration-color: initial\;'>Visit online at libertybloomsflorist.com or find Liberty Blooms on Facebook\, Instagram\, and Pinterest.</p><p style='color: rgb(0\, 0\, 0)\; font-family: "Times New Roman"\; font-size: medium\; font-style: normal\; font-variant-ligatures: normal\; font-variant-caps: normal\; font-weight: 400\; letter-spacing: normal\; orphans: 2\; text-align: start\; text-indent: 0px\; text-transform: none\; widows: 2\; word-spacing: 0px\; -webkit-text-stroke-width: 0px\; white-space: normal\; text-decoration-thickness: initial\; text-decoration-style: initial\; text-decoration-color: initial\;'>For inquiries\, email LibertyBloomsFlorist@gmail.com or call 845-747-9404.</p></body></html>
LOCATION:4886 NY-52 Jeffersonville NY 12748
UID:e.4487.1439386
SEQUENCE:3
DTSTAMP:20260422T212731Z
URL:https://business.catskills.com/events/Details/ribbon-cutting-grand-opening-liberty-blooms-west-1703857?sourceTypeId=Hub
END:VEVENT
END:VCALENDAR
