BEGIN:VCALENDAR
VERSION:2.0
PRODID:-//ChamberMaster//Event Calendar 2.0//EN
METHOD:PUBLISH
X-PUBLISHED-TTL:P1H
REFRESH-INTERVAL:P1H
CALSCALE:GREGORIAN
BEGIN:VTIMEZONE
TZID:America/New_York
BEGIN:DAYLIGHT
RRULE:FREQ=YEARLY;BYMONTH=3;BYDAY=2SU
DTSTART:20070101T000000
TZOFFSETFROM:-0500
TZOFFSETTO:-0400
TZNAME:Eastern Daylight Time
END:DAYLIGHT
BEGIN:STANDARD
RRULE:FREQ=YEARLY;BYMONTH=11;BYDAY=1SU
DTSTART:20070101T000000
TZOFFSETFROM:-0400
TZOFFSETTO:-0500
TZNAME:Eastern Standard Time
END:STANDARD
END:VTIMEZONE
BEGIN:VEVENT
DTSTART;TZID=America/New_York:20260503T100000
DTEND;TZID=America/New_York:20260503T140000
X-MICROSOFT-CDO-ALLDAYEVENT:FALSE
SUMMARY:Mother's Day Brunch
DESCRIPTION:Join us at Tango Café for a special early Mother’s Day themed brunch. Celebrate the mothers\, mother figures\, and loved ones you'd like to honor with good food\, great music\, and time spent together. \n\n\nYour ticket includes brunch and your choice of a mimosa or mock-mimosa\, with live music by DJ Digital Diva. \n\n\n*Please note: Seating is limited\, available on a first come\, first served basis\, and may include shared tables.
X-ALT-DESC;FMTTYPE=text/html:Join us at Tango Café for a special early Mother’s Day themed brunch. Celebrate the mothers\, mother figures\, and loved ones you'd like to honor with good food\, great music\, and time spent together. \n\n\nYour ticket includes brunch and your choice of a mimosa or mock-mimosa\, with live music by DJ Digital Diva. \n\n\n*Please note: Seating is limited\, available on a first come\, first served basis\, and may include shared tables.
LOCATION:219 Main St. Hurleyville NY 12747
UID:e.4487.1444585
SEQUENCE:3
DTSTAMP:20260422T212135Z
URL:https://business.catskills.com/events/Details/mother-s-day-brunch-1710960?sourceTypeId=Hub
END:VEVENT
END:VCALENDAR
