BEGIN:VCALENDAR
VERSION:2.0
PRODID:-//ChamberMaster//Event Calendar 2.0//EN
METHOD:PUBLISH
X-PUBLISHED-TTL:P1H
REFRESH-INTERVAL:P1H
CALSCALE:GREGORIAN
BEGIN:VTIMEZONE
TZID:America/New_York
BEGIN:DAYLIGHT
RRULE:FREQ=YEARLY;BYMONTH=3;BYDAY=2SU
DTSTART:20070101T000000
TZOFFSETFROM:-0500
TZOFFSETTO:-0400
TZNAME:Eastern Daylight Time
END:DAYLIGHT
BEGIN:STANDARD
RRULE:FREQ=YEARLY;BYMONTH=11;BYDAY=1SU
DTSTART:20070101T000000
TZOFFSETFROM:-0400
TZOFFSETTO:-0500
TZNAME:Eastern Standard Time
END:STANDARD
END:VTIMEZONE
BEGIN:VEVENT
DTSTART;TZID=America/New_York:20260510T113000
DTEND;TZID=America/New_York:20260510T180000
X-MICROSOFT-CDO-ALLDAYEVENT:FALSE
SUMMARY:Mother’s Day at The Homestead
DESCRIPTION:Give her an afternoon with nowhere to be and nothing to do but enjoy it. Join us Sunday\, May 10\, in The Homestead Dining Room for a prix fixe lunch and dinner designed for the occasion   unhurried\, well-fed\, and worth the reservation. \nReservations begin at 11:30 a.m. | $70 per person (excluding beverages\, tax + gratuity) \nRESERVE YOUR TABLE
X-ALT-DESC;FMTTYPE=text/html:<!DOCTYPE html><html><head><title></title></head><body aria-disabled="false"><p>Give her an afternoon with nowhere to be and nothing to do but enjoy it. Join us <strong fr-original-style="" style="font-weight: 700\;">Sunday\, May 10</strong>\, in The Homestead Dining Room for a prix fixe lunch and dinner designed for the occasion &mdash\; unhurried\, well-fed\, and worth the reservation.&nbsp\;</p><p><br></p><p>Reservations begin at 11:30 a.m. | $70 per person <em>(excluding beverages\, tax + gratuity) </em></p><p><br></p><p><a fr-original-style="" href="https://theeldredpreserve.com/entertainment/mothers-day/" rel="noopener noreferrer" style="user-select: auto\;" target="_blank"><u><strong fr-original-style="" style="font-weight: 700\;">RESERVE YOUR TABLE</strong></u></a></p></body></html>
LOCATION:1040 State Rte 55 Eldred NY 12732
UID:e.4487.1440297
SEQUENCE:3
DTSTAMP:20260422T212547Z
URL:https://business.catskills.com/events/Details/mother-s-day-at-the-homestead-1704987?sourceTypeId=Hub
END:VEVENT
END:VCALENDAR
