BEGIN:VCALENDAR
VERSION:2.0
PRODID:-//ChamberMaster//Event Calendar 2.0//EN
METHOD:PUBLISH
X-PUBLISHED-TTL:P1H
REFRESH-INTERVAL:P1H
CALSCALE:GREGORIAN
BEGIN:VTIMEZONE
TZID:America/New_York
BEGIN:DAYLIGHT
RRULE:FREQ=YEARLY;BYMONTH=3;BYDAY=2SU
DTSTART:20070101T000000
TZOFFSETFROM:-0500
TZOFFSETTO:-0400
TZNAME:Eastern Daylight Time
END:DAYLIGHT
BEGIN:STANDARD
RRULE:FREQ=YEARLY;BYMONTH=11;BYDAY=1SU
DTSTART:20070101T000000
TZOFFSETFROM:-0400
TZOFFSETTO:-0500
TZNAME:Eastern Standard Time
END:STANDARD
END:VTIMEZONE
BEGIN:VEVENT
DTSTART;TZID=America/New_York:20260517T133000
DTEND;TZID=America/New_York:20260517T153000
X-MICROSOFT-CDO-ALLDAYEVENT:FALSE
SUMMARY:Meet the Artists\, See the Exhibit "Iterations of Hope"
DESCRIPTION:Come meet the artists and see paintings\, photographs\, and collages on display as part of "Iterations of Hope" at the Arts Nest.
X-ALT-DESC;FMTTYPE=text/html:Come meet the artists and see paintings\, photographs\, and collages on display as part of "Iterations of Hope" at the Arts Nest.
LOCATION:6692 NY 52 Lake Huntington NY
UID:e.4487.1437588
SEQUENCE:3
DTSTAMP:20260422T212837Z
URL:https://business.catskills.com/events/Details/meet-the-artists-see-the-exhibit-iterations-of-hope-1701537?sourceTypeId=Hub
END:VEVENT
END:VCALENDAR
