BEGIN:VCALENDAR
VERSION:2.0
PRODID:-//ChamberMaster//Event Calendar 2.0//EN
METHOD:PUBLISH
X-PUBLISHED-TTL:P1H
REFRESH-INTERVAL:P1H
CALSCALE:GREGORIAN
BEGIN:VTIMEZONE
TZID:America/New_York
BEGIN:DAYLIGHT
RRULE:FREQ=YEARLY;BYMONTH=3;BYDAY=2SU
DTSTART:20070101T000000
TZOFFSETFROM:-0500
TZOFFSETTO:-0400
TZNAME:Eastern Daylight Time
END:DAYLIGHT
BEGIN:STANDARD
RRULE:FREQ=YEARLY;BYMONTH=11;BYDAY=1SU
DTSTART:20070101T000000
TZOFFSETFROM:-0400
TZOFFSETTO:-0500
TZNAME:Eastern Standard Time
END:STANDARD
END:VTIMEZONE
BEGIN:VEVENT
DTSTART;TZID=America/New_York:20260414T183000
DTEND;TZID=America/New_York:20260414T193000
X-MICROSOFT-CDO-ALLDAYEVENT:FALSE
SUMMARY:Mat Pilates
DESCRIPTION:Join us for weekly Mat Pilates sessions led by Aly Steingart at the Hurleyville Performing Arts Centre. These low-impact\, full-body workouts focus on building core strength\, enhancing flexibility\, and improving posture. Through a series of controlled movements performed on a mat\, you'll engage in exercises designed to strengthen and lengthen muscles\, increase body awareness\, and promote balance. Aly provides modifications to ensure everyone can participate comfortably\, making these classes suitable for all fitness levels. Whether you're new to Pilates or looking to deepen your practice\, these sessions offer a supportive environment to connect mind and body.\n\n\n\nWHAT TO BRING & WHERE TO GO: \n\nPlease bring: \n\nWater to stay hydrated\nPilates mat \nPilates socks (we do have some available for $5 in class if needed) \n\n\n**Class will take place in the Arts Centre Ballroom- 219 Main Street\, Hurleyville\n\n\n\nPlease Note:\nClass sizes are limited to ensure personalized attention. Preregistration is required to secure your spot.\n\nCome prepared to move\, breathe\, and feel great!\n\n\n\nPlease reach out to Megan@hpacny.org if you have any further questions!
X-ALT-DESC;FMTTYPE=text/html:Join us for weekly Mat Pilates sessions led by Aly Steingart at the Hurleyville Performing Arts Centre. These low-impact\, full-body workouts focus on building core strength\, enhancing flexibility\, and improving posture. Through a series of controlled movements performed on a mat\, you'll engage in exercises designed to strengthen and lengthen muscles\, increase body awareness\, and promote balance. Aly provides modifications to ensure everyone can participate comfortably\, making these classes suitable for all fitness levels. Whether you're new to Pilates or looking to deepen your practice\, these sessions offer a supportive environment to connect mind and body.\n\n\n\nWHAT TO BRING & WHERE TO GO: \n\nPlease bring: \n\nWater to stay hydrated\nPilates mat \nPilates socks (we do have some available for $5 in class if needed) \n\n\n**Class will take place in the Arts Centre Ballroom- 219 Main Street\, Hurleyville\n\n\n\nPlease Note:\nClass sizes are limited to ensure personalized attention. Preregistration is required to secure your spot.\n\nCome prepared to move\, breathe\, and feel great!\n\n\n\nPlease reach out to Megan@hpacny.org if you have any further questions!
LOCATION:219 Main St. Hurleyville NY 12747
UID:e.4487.1439892
SEQUENCE:3
DTSTAMP:20260422T211114Z
URL:https://business.catskills.com/events/Details/mat-pilates-1704541?sourceTypeId=Hub
END:VEVENT
END:VCALENDAR
