BEGIN:VCALENDAR
VERSION:2.0
PRODID:-//ChamberMaster//Event Calendar 2.0//EN
METHOD:PUBLISH
X-PUBLISHED-TTL:P1H
REFRESH-INTERVAL:P1H
CALSCALE:GREGORIAN
BEGIN:VTIMEZONE
TZID:America/New_York
BEGIN:DAYLIGHT
RRULE:FREQ=YEARLY;BYMONTH=3;BYDAY=2SU
DTSTART:20070101T000000
TZOFFSETFROM:-0500
TZOFFSETTO:-0400
TZNAME:Eastern Daylight Time
END:DAYLIGHT
BEGIN:STANDARD
RRULE:FREQ=YEARLY;BYMONTH=11;BYDAY=1SU
DTSTART:20070101T000000
TZOFFSETFROM:-0400
TZOFFSETTO:-0500
TZNAME:Eastern Standard Time
END:STANDARD
END:VTIMEZONE
BEGIN:VEVENT
DTSTART;TZID=America/New_York:20260614T120000
DTEND;TZID=America/New_York:20260614T150000
X-MICROSOFT-CDO-ALLDAYEVENT:FALSE
SUMMARY:Funky Hippy Chic Boutique Ribbon Cutting & Fashion Show
DESCRIPTION:Ribbon Cutting\, Fashion Show & Good Vibes at Funky Hippy Chic BoutiqueSunday\, June 14\, 2026\nRibbon Cutting at 12:00 PMFunky Hippy Chic Boutique \n679 Resorts World Drive\, Monticello\, NYJoin the Sullivan County Chamber of Commerce as we celebrate a ribbon cutting and 10 incredible years at their current location with Funky Hippy Chic Boutique.Curated with heart and soul by The Funky Hippy Chick herself\, Patti Greco Sunshine\, the boutique is designed to awaken and soothe your inner hippie. Inside\, you'll discover vibrant\, bold\, free‑flowing clothing\, rich textures\, and one‑of‑a‑kind pieces that celebrate cultures from around the world.Explore custom made up-cycled denim\, ethnically inspired jewelry and accessories\, and original Joshua's Trees wood art   lamps\, centerpieces\, and d cor crafted from repurposed materials. You'll even find authentic Chamba Colombian cookware\, bringing global tradition into your home.It's more than a boutique. It's a multicultural experience\, a creative sanctuary\, and a celebration of all things funky\, soulful\, and beautifully unique.What's happening:Ribbon Cutting Celebration at 12PM with the Sullivan County Chamber of CommerceA lively fashion show starring the Funky Hippy Chicks and ChicosTasty refreshments and noshes to enjoy while you mingleMusic and great vibes all afternoonThe boutique will remain open until 3:00 PM\, so stay\, shop\, and soak it all in.Bring your friends\, your good energy\, and your love for all things funky. Let's celebrate in style.
X-ALT-DESC;FMTTYPE=text/html:<!DOCTYPE html><html><head><title></title></head><body aria-disabled="false"><p style="margin-bottom: 0in\; line-height: normal\; text-align: center\;"><strong fr-original-style="" style="font-weight: 700\;"><span style="color: rgb(184\, 49\, 47)\; font-size: 18px\; font-family: Tahoma\, Geneva\, sans-serif\;">Ribbon Cutting\, Fashion Show &amp\; Good Vibes at Funky Hippy Chic Boutique</span></strong></p><p style="margin-bottom: 0in\; line-height: normal\; text-align: center\;"><span style="font-family: Tahoma\,Geneva\,sans-serif\;"><strong fr-original-style="" style="font-weight: 700\;">Sunday\, June 14\, 2026<br></strong><strong fr-original-style="" style="font-weight: 700\;"><span style="color: rgb(184\, 49\, 47)\;">Ribbon Cutting at 12:00 PM</span></strong></span></p><p style="margin-bottom: 0in\; line-height: normal\; text-align: center\;"><span style="font-family: Tahoma\,Geneva\,sans-serif\;"><strong fr-original-style="" style="font-weight: 700\;"><span style="color: rgb(184\, 49\, 47)\;"><strong fr-original-style="" style="font-weight: 700\;"><span style="color: rgb(85\, 57\, 130)\;">Funky Hippy Chic Boutique&nbsp\;</span></strong><span style="color: rgb(85\, 57\, 130)\;"><br></span></span></strong><span style="color: rgb(0\, 0\, 0)\;">679 Resorts World Drive\, Monticello\, NY</span></span></p><p style="margin-bottom:0in\;line-height:normal\;"><span style="font-family: Tahoma\,Geneva\,sans-serif\;">Join the <strong fr-original-style="" style="font-weight: 700\;"><span style="color: rgb(41\, 105\, 176)\;">Sullivan County Chamber of Commerce</span></strong> as we celebrate a ribbon cutting and 10 incredible years at their current location with <strong fr-original-style="" style="font-weight: 700\;"><span style="color: rgb(85\, 57\, 130)\;">Funky Hippy Chic Boutique</span></strong>.</span></p><p style="margin-bottom:0in\;line-height:normal\;"><span style="font-family: Tahoma\,Geneva\,sans-serif\;">Curated with heart and soul by The Funky Hippy Chick herself\, Patti Greco Sunshine\, the boutique is designed to awaken and soothe your inner hippie. Inside\, you&rsquo\;ll discover vibrant\, bold\, free‑flowing clothing\, rich textures\, and one‑of‑a‑kind pieces that celebrate cultures from around the world.</span></p><p style="margin-bottom:0in\;line-height:normal\;"><span style="font-family: Tahoma\,Geneva\,sans-serif\;">Explore custom made up-cycled denim\, ethnically inspired jewelry and accessories\, and original Joshua&rsquo\;s Trees wood art &mdash\; lamps\, centerpieces\, and d&eacute\;cor crafted from repurposed materials. You&rsquo\;ll even find authentic Chamba Colombian cookware\, bringing global tradition into your home.</span></p><p style="margin-bottom:0in\;line-height:normal\;"><span style="font-family: Tahoma\,Geneva\,sans-serif\;">It&rsquo\;s more than a boutique. It&rsquo\;s a multicultural experience\, a creative sanctuary\, and a celebration of all things funky\, soulful\, and beautifully unique.</span></p><p style="margin-bottom:0in\;line-height:normal\;"><span style="font-family: Tahoma\,Geneva\,sans-serif\;"><strong fr-original-style="" style="font-weight: 700\;">What&rsquo\;s happening:</strong></span></p><ul fr-original-style="margin-top:0in\;" style="margin-top: 0in\; list-style-position: inside\;" type="disc"><li style="margin-bottom: 0in\; line-height: normal\; font-family: Tahoma\, Geneva\, sans-serif\;">Ribbon Cutting Celebration at 12PM with the Sullivan County Chamber of Commerce</li><li style="margin-bottom: 0in\; line-height: normal\; font-family: Tahoma\, Geneva\, sans-serif\;">A lively fashion show starring the Funky Hippy Chicks and Chicos</li><li style="margin-bottom: 0in\; line-height: normal\; font-family: Tahoma\, Geneva\, sans-serif\;">Tasty refreshments and noshes to enjoy while you mingle</li><li style="margin-bottom: 0in\; line-height: normal\; font-family: Tahoma\, Geneva\, sans-serif\;">Music and great vibes all afternoon</li></ul><p style="margin-bottom:0in\;line-height:normal\;"><span style="font-family: Tahoma\,Geneva\,sans-serif\;">The boutique will remain open until 3:00 PM\, so stay\, shop\, and soak it all in.</span></p><p style="margin-bottom:0in\;line-height:normal\;"><span style="font-family: Tahoma\, Geneva\, sans-serif\;">Bring your friends\, your good energy\, and your love for all things funky. Let&rsquo\;s celebrate in style.</span></p></body></html>
LOCATION:679 Resorts World Drive Monticello NY 12701
UID:e.4487.1439439
SEQUENCE:3
DTSTAMP:20260422T213021Z
URL:https://business.catskills.com/events/Details/funky-hippy-chic-boutique-ribbon-cutting-fashion-show-1703899?sourceTypeId=Hub
END:VEVENT
END:VCALENDAR
