BEGIN:VCALENDAR
VERSION:2.0
PRODID:-//ChamberMaster//Event Calendar 2.0//EN
METHOD:PUBLISH
X-PUBLISHED-TTL:P1H
REFRESH-INTERVAL:P1H
CALSCALE:GREGORIAN
BEGIN:VTIMEZONE
TZID:America/New_York
BEGIN:DAYLIGHT
RRULE:FREQ=YEARLY;BYMONTH=3;BYDAY=2SU
DTSTART:20070101T000000
TZOFFSETFROM:-0500
TZOFFSETTO:-0400
TZNAME:Eastern Daylight Time
END:DAYLIGHT
BEGIN:STANDARD
RRULE:FREQ=YEARLY;BYMONTH=11;BYDAY=1SU
DTSTART:20070101T000000
TZOFFSETFROM:-0400
TZOFFSETTO:-0500
TZNAME:Eastern Standard Time
END:STANDARD
END:VTIMEZONE
BEGIN:VEVENT
DTSTART;TZID=America/New_York:20260714T200000
DTEND;TZID=America/New_York:20260714T223000
X-MICROSOFT-CDO-ALLDAYEVENT:FALSE
SUMMARY:Dear Evan Hansen at Forestburgh Playhouse
DESCRIPTION:The groundbreaking Broadway phenomenon. Winner of six Tony Awards®\, including Best Musical\, Dear Evan Hansen is a deeply moving and profoundly human story about life and the way we connect. When a high school student’s private letter is mistakenly made public\, a tangled web of misunderstanding transforms into a powerful exploration of belonging\, truth\, and the courage to be yourself. This modern musical phenomenon has touched audiences around the world with its honesty\, humor\, and heart. A show that speaks to all generations\, Dear Evan Hansen reminds us: you are not alone.\nDETAILS:\nTuesday\, July 14 ~ 8:00pm \nThe Forestburgh Playhouse \nDoors Open at 7:30pm \nBuy tickets ahead of time through our website\, or call/email our box office \nBUY YOUR TICKETS: \nWebsite: https://www.fbplayhouse.org/\nPhone: (845)-794-1194 \nEmail: BOXOFFICE@FBPLAYHOUSE.ORG
X-ALT-DESC;FMTTYPE=text/html:The groundbreaking Broadway phenomenon. Winner of six Tony Awards®\, including Best Musical\, Dear Evan Hansen is a deeply moving and profoundly human story about life and the way we connect. When a high school student’s private letter is mistakenly made public\, a tangled web of misunderstanding transforms into a powerful exploration of belonging\, truth\, and the courage to be yourself. This modern musical phenomenon has touched audiences around the world with its honesty\, humor\, and heart. A show that speaks to all generations\, Dear Evan Hansen reminds us: you are not alone.\nDETAILS:\nTuesday\, July 14 ~ 8:00pm \nThe Forestburgh Playhouse \nDoors Open at 7:30pm \nBuy tickets ahead of time through our website\, or call/email our box office \nBUY YOUR TICKETS: \nWebsite: https://www.fbplayhouse.org/\nPhone: (845)-794-1194 \nEmail: BOXOFFICE@FBPLAYHOUSE.ORG
LOCATION:39 Forestburgh Road Forestburgh NY 12777
UID:e.4487.1446880
SEQUENCE:3
DTSTAMP:20260422T212244Z
URL:https://business.catskills.com/events/Details/dear-evan-hansen-at-forestburgh-playhouse-1713690?sourceTypeId=Hub
END:VEVENT
END:VCALENDAR
