BEGIN:VCALENDAR
VERSION:2.0
PRODID:-//ChamberMaster//Event Calendar 2.0//EN
METHOD:PUBLISH
X-PUBLISHED-TTL:P1H
REFRESH-INTERVAL:P1H
CALSCALE:GREGORIAN
BEGIN:VTIMEZONE
TZID:America/New_York
BEGIN:DAYLIGHT
RRULE:FREQ=YEARLY;BYMONTH=3;BYDAY=2SU
DTSTART:20070101T000000
TZOFFSETFROM:-0500
TZOFFSETTO:-0400
TZNAME:Eastern Daylight Time
END:DAYLIGHT
BEGIN:STANDARD
RRULE:FREQ=YEARLY;BYMONTH=11;BYDAY=1SU
DTSTART:20070101T000000
TZOFFSETFROM:-0400
TZOFFSETTO:-0500
TZNAME:Eastern Standard Time
END:STANDARD
END:VTIMEZONE
BEGIN:VEVENT
DTSTART;TZID=America/New_York:20260711T200000
DTEND;TZID=America/New_York:20260711T220000
X-MICROSOFT-CDO-ALLDAYEVENT:FALSE
SUMMARY:Close Encounters of a Jonathan Kind
DESCRIPTION:Back by popular demand! Jonathan Charles Fox is back with a brand-new evening of personal storytelling that you won't soon forget!\n\n\n\nJoined by That Dog Named Gidget and featuring musical guest Chuck Vassallo\, it’s a return you won’t want to miss!\n\n\nConcessions and bar available. Doors open at 7 for smooshing before the show.
X-ALT-DESC;FMTTYPE=text/html:Back by popular demand! Jonathan Charles Fox is back with a brand-new evening of personal storytelling that you won't soon forget!\n\n\n\nJoined by That Dog Named Gidget and featuring musical guest Chuck Vassallo\, it’s a return you won’t want to miss!\n\n\nConcessions and bar available. Doors open at 7 for smooshing before the show.
LOCATION:219 Main St. Hurleyville NY 12747
UID:e.4487.1440877
SEQUENCE:3
DTSTAMP:20260422T212129Z
URL:https://business.catskills.com/events/Details/close-encounters-of-a-jonathan-kind-1706079?sourceTypeId=Hub
END:VEVENT
END:VCALENDAR
