BEGIN:VCALENDAR
VERSION:2.0
PRODID:-//ChamberMaster//Event Calendar 2.0//EN
METHOD:PUBLISH
X-PUBLISHED-TTL:P1H
REFRESH-INTERVAL:P1H
CALSCALE:GREGORIAN
BEGIN:VTIMEZONE
TZID:America/New_York
BEGIN:DAYLIGHT
RRULE:FREQ=YEARLY;BYMONTH=3;BYDAY=2SU
DTSTART:20070101T000000
TZOFFSETFROM:-0500
TZOFFSETTO:-0400
TZNAME:Eastern Daylight Time
END:DAYLIGHT
BEGIN:STANDARD
RRULE:FREQ=YEARLY;BYMONTH=11;BYDAY=1SU
DTSTART:20070101T000000
TZOFFSETFROM:-0400
TZOFFSETTO:-0500
TZNAME:Eastern Standard Time
END:STANDARD
END:VTIMEZONE
BEGIN:VEVENT
DTSTART;TZID=America/New_York:20260725T200000
DTEND;TZID=America/New_York:20260725T220000
X-MICROSOFT-CDO-ALLDAYEVENT:FALSE
SUMMARY:Chris Spinner: I Have Eras Too!
DESCRIPTION:Get ready for a night of music\, stories\, and pure magic! I HAVE ERAS TOO!\, the highly anticipated one-woman show by the incomparable Cris Spinner.\n\n This isn’t just a show\, it’s an experience! Cris\, a powerhouse performer with a background in music\, radio\, and storytelling\, will take you on a journey through her original songs and tales\, all delivered with her signature wit and warmth.\n\n\nBut wait\, there’s more! Cris will be joined by an ensemble of top-tier musicians\, making this a night of unforgettable performances. Known for her uplifting "Live from the Wish House" series that kept spirits high during the pandemic\, Cris has a knack for turning every performance into a celebration of life\, love\, and community.\n\n\nDon’t miss your chance to laugh\, cry\, and sing along. Grab your tickets now and join us for a night that promises to be as heartwarming as it is entertaining. It’s going to be a show for the ages!\n\n\nDoors and bar open at 7pm. Come early to mingle and settle in.\nShow begins at 8pm.
X-ALT-DESC;FMTTYPE=text/html:Get ready for a night of music\, stories\, and pure magic! I HAVE ERAS TOO!\, the highly anticipated one-woman show by the incomparable Cris Spinner.\n\n This isn’t just a show\, it’s an experience! Cris\, a powerhouse performer with a background in music\, radio\, and storytelling\, will take you on a journey through her original songs and tales\, all delivered with her signature wit and warmth.\n\n\nBut wait\, there’s more! Cris will be joined by an ensemble of top-tier musicians\, making this a night of unforgettable performances. Known for her uplifting "Live from the Wish House" series that kept spirits high during the pandemic\, Cris has a knack for turning every performance into a celebration of life\, love\, and community.\n\n\nDon’t miss your chance to laugh\, cry\, and sing along. Grab your tickets now and join us for a night that promises to be as heartwarming as it is entertaining. It’s going to be a show for the ages!\n\n\nDoors and bar open at 7pm. Come early to mingle and settle in.\nShow begins at 8pm.
LOCATION:219 Main Street Hurleyville NY 12747
UID:e.4487.1440866
SEQUENCE:3
DTSTAMP:20260422T212143Z
URL:https://business.catskills.com/events/Details/chris-spinner-i-have-eras-too-1706068?sourceTypeId=Hub
END:VEVENT
END:VCALENDAR
