BEGIN:VCALENDAR
VERSION:2.0
PRODID:-//ChamberMaster//Event Calendar 2.0//EN
METHOD:PUBLISH
X-PUBLISHED-TTL:P1H
REFRESH-INTERVAL:P1H
CALSCALE:GREGORIAN
BEGIN:VTIMEZONE
TZID:America/New_York
BEGIN:DAYLIGHT
RRULE:FREQ=YEARLY;BYMONTH=3;BYDAY=2SU
DTSTART:20070101T000000
TZOFFSETFROM:-0500
TZOFFSETTO:-0400
TZNAME:Eastern Daylight Time
END:DAYLIGHT
BEGIN:STANDARD
RRULE:FREQ=YEARLY;BYMONTH=11;BYDAY=1SU
DTSTART:20070101T000000
TZOFFSETFROM:-0400
TZOFFSETTO:-0500
TZNAME:Eastern Standard Time
END:STANDARD
END:VTIMEZONE
BEGIN:VEVENT
DTSTART;TZID=America/New_York:20261009T190000
DTEND;TZID=America/New_York:20261011T220000
X-MICROSOFT-CDO-ALLDAYEVENT:FALSE
SUMMARY:Catskill International Film Festival
DESCRIPTION:The Catskill International Film Festival (CIFF) is an international platform dedicated to discovering and celebrating exceptional independent cinema. Since 2018\, CIFF has showcased a curated selection of films\, television pilots\, music videos\, and emerging media from around the world championing bold storytelling\, artistic innovation\, and distinctive new voices. This year's festival will feature intricate programming curated so that guests can fully experience everything the festival has to offer across an exciting three-day weekend at the beautiful Hurleyville Performing Arts Centre.
X-ALT-DESC;FMTTYPE=text/html:<!DOCTYPE html><html><head><title></title></head><body aria-disabled="false"><p>The Catskill International Film Festival (CIFF) is an international platform dedicated to discovering and celebrating exceptional independent cinema. Since 2018\, CIFF has showcased a curated selection of films\, television pilots\, music videos\, and emerging media from around the world&mdash\;championing bold storytelling\, artistic innovation\, and distinctive new voices. This year&rsquo\;s festival will feature intricate programming curated so that guests can fully experience everything the festival has to offer across an exciting three-day weekend at the beautiful Hurleyville Performing Arts Centre.</p></body></html>
LOCATION:219 Main St. Hurlevyille NY 12747
UID:e.4487.1441073
SEQUENCE:3
DTSTAMP:20260422T212729Z
URL:https://business.catskills.com/events/Details/catskill-international-film-festival-1706288?sourceTypeId=Hub
END:VEVENT
END:VCALENDAR
