BEGIN:VCALENDAR
VERSION:2.0
PRODID:-//ChamberMaster//Event Calendar 2.0//EN
METHOD:PUBLISH
X-PUBLISHED-TTL:P1H
REFRESH-INTERVAL:P1H
CALSCALE:GREGORIAN
BEGIN:VTIMEZONE
TZID:America/New_York
BEGIN:DAYLIGHT
RRULE:FREQ=YEARLY;BYMONTH=3;BYDAY=2SU
DTSTART:20070101T000000
TZOFFSETFROM:-0500
TZOFFSETTO:-0400
TZNAME:Eastern Daylight Time
END:DAYLIGHT
BEGIN:STANDARD
RRULE:FREQ=YEARLY;BYMONTH=11;BYDAY=1SU
DTSTART:20070101T000000
TZOFFSETFROM:-0400
TZOFFSETTO:-0500
TZNAME:Eastern Standard Time
END:STANDARD
END:VTIMEZONE
BEGIN:VEVENT
DTSTART;TZID=America/New_York:20260702T180000
DTEND;TZID=America/New_York:20260702T190000
X-MICROSOFT-CDO-ALLDAYEVENT:FALSE
SUMMARY:Breaking Barriers and Understanding Disabilities
DESCRIPTION:Born with a mild form of Cerebral Palsy (CP)\, Lee Brian Karasik — musician\, photographer\, EMT\, disability advocate and proud Sullivan County native shares his unique perspective on living with a disability\, while simultaneously navigating the world in which we live. Through personal stories and powerful insights\, Lee’s mission is to promote understanding\, inclusion\, and respect for people of all abilities.\n\n\nThe event will include an engaging presentation\, followed by open Q&A.  Community members of all ages and abilities are welcome and encouraged to attend. \n\n \nHPAC is an ADA compliant and inclusive facility.
X-ALT-DESC;FMTTYPE=text/html:Born with a mild form of Cerebral Palsy (CP)\, Lee Brian Karasik — musician\, photographer\, EMT\, disability advocate and proud Sullivan County native shares his unique perspective on living with a disability\, while simultaneously navigating the world in which we live. Through personal stories and powerful insights\, Lee’s mission is to promote understanding\, inclusion\, and respect for people of all abilities.\n\n\nThe event will include an engaging presentation\, followed by open Q&A.  Community members of all ages and abilities are welcome and encouraged to attend. \n\n \nHPAC is an ADA compliant and inclusive facility.
LOCATION:219 Main Street Hurleyville NY 12747
UID:e.4487.1440888
SEQUENCE:3
DTSTAMP:20260422T211442Z
URL:https://business.catskills.com/events/Details/breaking-barriers-and-understanding-disabilities-1706090?sourceTypeId=Hub
END:VEVENT
END:VCALENDAR
