BEGIN:VCALENDAR
VERSION:2.0
PRODID:-//ChamberMaster//Event Calendar 2.0//EN
METHOD:PUBLISH
X-PUBLISHED-TTL:P1H
REFRESH-INTERVAL:P1H
CALSCALE:GREGORIAN
BEGIN:VTIMEZONE
TZID:America/New_York
BEGIN:DAYLIGHT
RRULE:FREQ=YEARLY;BYMONTH=3;BYDAY=2SU
DTSTART:20070101T000000
TZOFFSETFROM:-0500
TZOFFSETTO:-0400
TZNAME:Eastern Daylight Time
END:DAYLIGHT
BEGIN:STANDARD
RRULE:FREQ=YEARLY;BYMONTH=11;BYDAY=1SU
DTSTART:20070101T000000
TZOFFSETFROM:-0400
TZOFFSETTO:-0500
TZNAME:Eastern Standard Time
END:STANDARD
END:VTIMEZONE
BEGIN:VEVENT
DTSTART;TZID=America/New_York:20260419T140000
DTEND;TZID=America/New_York:20260419T170000
X-MICROSOFT-CDO-ALLDAYEVENT:FALSE
SUMMARY:Being Somebody\, performance and talk back
DESCRIPTION:Come for Being Somebody\, stay for a hopefilled Q & A with the father and daughter duo\, along with special guests.\nSee more at https://www.delawarevalleyopera.org/index.php/calendar/eventdetail/555/-/huntington-hall-being-somebody-live-theater
X-ALT-DESC;FMTTYPE=text/html:Come for Being Somebody\, stay for a hopefilled Q & A with the father and daughter duo\, along with special guests.\nSee more at https://www.delawarevalleyopera.org/index.php/calendar/eventdetail/555/-/huntington-hall-being-somebody-live-theater
LOCATION:6692 NY 52 Lake Huntington NY 12752-0124
UID:e.4487.1437580
SEQUENCE:3
DTSTAMP:20260422T211411Z
URL:https://business.catskills.com/events/Details/being-somebody-performance-and-talk-back-1701524?sourceTypeId=Hub
END:VEVENT
END:VCALENDAR
