BEGIN:VCALENDAR
VERSION:2.0
PRODID:-//ChamberMaster//Event Calendar 2.0//EN
METHOD:PUBLISH
X-PUBLISHED-TTL:P1H
REFRESH-INTERVAL:P1H
CALSCALE:GREGORIAN
BEGIN:VTIMEZONE
TZID:America/New_York
BEGIN:DAYLIGHT
RRULE:FREQ=YEARLY;BYMONTH=3;BYDAY=2SU
DTSTART:20070101T000000
TZOFFSETFROM:-0500
TZOFFSETTO:-0400
TZNAME:Eastern Daylight Time
END:DAYLIGHT
BEGIN:STANDARD
RRULE:FREQ=YEARLY;BYMONTH=11;BYDAY=1SU
DTSTART:20070101T000000
TZOFFSETFROM:-0400
TZOFFSETTO:-0500
TZNAME:Eastern Standard Time
END:STANDARD
END:VTIMEZONE
BEGIN:VEVENT
DTSTART;TZID=America/New_York:20260528T160000
DTEND;TZID=America/New_York:20260528T180000
X-MICROSOFT-CDO-ALLDAYEVENT:FALSE
SUMMARY:Sullivan Business Exchange\, featuring the Brochure Swap
DESCRIPTION:REGISTRATION IS OPEN!Sullivan Business Exchange: Featuring the Brochure SwapGet ready to kick off tourism season and shine a spotlight on everything that makes Sullivan County's small business community thrive.The Sullivan County Chamber of Commerce\, in partnership with Sullivan Catskills\, invites you to join a lively\, high-energy event built to connect\, promote\, and inspire. The Sullivan Business Exchange is your chance to put your business front and center just as visitors begin exploring our region.Event Details\nDate: Thursday\, May 28\nTime: 4:00 PM   6:00 PM\nLocation: Liberty Mall Parking Lot\, 15 Sullivan Ave\, Liberty\, NY 12754Set in a fun exhibition and tailgate-style atmosphere\, this event brings together local entrepreneurs\, organizations\, and community leaders for an evening of visibility and opportunity. Share your brochures\, showcase your services\, spark new partnerships\, and see firsthand what fellow businesses are offering this season.If you are looking to boost awareness\, generate leads\, and stay active in the local business scene\, this is where you want to be.Vendor InformationIndoor Exhibition Spaces (Liberty Mall):Limited availability\, first-come\, first-servedOne 6-foot wide spaceVendors must provide their own setupLimit of one (1) table per vendor (maximum table length: 6 feet) and up to two chairsOutdoor Tailgate Spaces (Parking Lot):Limited availability\, first-come\, first-servedOne parking space per vendorRegistration Fees\nChamber Members: $10 (Chamber Members receive their discounted vendor rate at checkout when logged into their Chamber account.)\nNon-Members: $20To ensure broad participation\, each business is limited to one vendor space so more of our local business community can be included. Spots are limited and expected to fill quickly. Secure your space today\, connect with fellow businesses\, and position yourself for a strong and successful tourism season
X-ALT-DESC;FMTTYPE=text/html:<!DOCTYPE html><html><head><title></title></head><body aria-disabled="false"><p style="margin-bottom: 0in\; line-height: normal\; text-align: right\;"><span style="color: rgb(255\, 33\, 147)\; font-size: 24px\; font-family: Impact\, Charcoal\, sans-serif\;">REGISTRATION IS OPEN!</span></p><p style="margin-bottom:0in\;line-height:normal\;"><strong fr-original-style="" style="font-weight: 700\;">Sullivan Business Exchange: Featuring the Brochure Swap</strong></p><p style="margin-bottom:0in\;line-height:normal\;">Get ready to kick off tourism season and shine a spotlight on everything that makes Sullivan County&rsquo\;s small business community thrive.</p><p style="margin-bottom:0in\;line-height:normal\;">The <strong fr-original-style="" style="font-weight: 700\;">Sullivan County Chamber of Commerce</strong>\, in partnership with <strong fr-original-style="" style="font-weight: 700\;">Sullivan Catskills</strong>\, invites you to join a lively\, high-energy event built to connect\, promote\, and inspire. The <strong fr-original-style="" style="font-weight: 700\;">Sullivan Business Exchange</strong> is your chance to put your business front and center just as visitors begin exploring our region.</p><p style="margin-bottom:0in\;line-height:normal\;"><strong fr-original-style="" style="font-weight: 700\;">Event Details</strong><br>Date: Thursday\, May 28<br>Time: 4:00 PM &ndash\; 6:00 PM<br>Location: Liberty Mall Parking Lot\, 15 Sullivan Ave\, Liberty\, NY 12754</p><p style="margin-bottom:0in\;line-height:normal\;">Set in a fun exhibition and tailgate-style atmosphere\, this event brings together local entrepreneurs\, organizations\, and community leaders for an evening of visibility and opportunity. Share your brochures\, showcase your services\, spark new partnerships\, and see firsthand what fellow businesses are offering this season.</p><p style="margin-bottom:0in\;line-height:normal\;">If you are looking to boost awareness\, generate leads\, and stay active in the local business scene\, this is where you want to be.</p><p style="margin-bottom:0in\;line-height:normal\;"><strong fr-original-style="" style="font-weight: 700\;">Vendor Information</strong></p><p style="margin-bottom:0in\;line-height:normal\;"><strong fr-original-style="" style="font-weight: 700\;">Indoor Exhibition Spaces (Liberty Mall):</strong></p><ul fr-original-style="" style="list-style-position: inside\;"><li style="margin-bottom:0in\;line-height:normal\;">Limited availability\, first-come\, first-served</li><li>One 6-foot wide space</li><li>Vendors must provide their own setup</li><li>Limit of one (1) table per vendor (maximum table length: 6 feet) and up to two chairs</li></ul><p><strong fr-original-style="" style="font-weight: 700\;">Outdoor Tailgate Spaces (Parking Lot):</strong></p><ul fr-original-style="" style="list-style-position: inside\;"><li>Limited availability\, first-come\, first-served</li><li>One parking space per vendor</li></ul><p style="margin-bottom:0in\;line-height:normal\;"><strong fr-original-style="" style="font-weight: 700\;">Registration Fees</strong><br>Chamber Members: $10 <span style="font-size: 10px\;">(Chamber Members receive their discounted vendor rate at checkout when logged into their Chamber account.)</span><br>Non-Members: $20</p><p style="margin-bottom:0in\;line-height:normal\;">To ensure broad participation\, each business is limited to one vendor space so more of our local business community can be included.&nbsp\;</p><p style="margin-bottom:0in\;line-height:normal\;">Spots are limited and expected to fill quickly. Secure your space today\, connect with fellow businesses\, and position yourself for a strong and successful tourism season</p></body></html>
LOCATION:15 Sullivan Ave. liberty NY 12754
UID:e.4487.1447383
SEQUENCE:3
DTSTAMP:20260423T002334Z
URL:https://business.catskills.com/events/Details/sullivan-business-exchange-featuring-the-brochure-swap-1714320?sourceTypeId=Hub
END:VEVENT
END:VCALENDAR
